BEGIN:VCALENDAR
VERSION:2.0
PRODID:-//Fashion Revolution Polska - ECPv6.6.0.2//NONSGML v1.0//EN
CALSCALE:GREGORIAN
METHOD:PUBLISH
X-WR-CALNAME:Fashion Revolution Polska
X-ORIGINAL-URL:https://fashrev.pl
X-WR-CALDESC:Events for Fashion Revolution Polska
REFRESH-INTERVAL;VALUE=DURATION:PT1H
X-Robots-Tag:noindex
X-PUBLISHED-TTL:PT1H
BEGIN:VTIMEZONE
TZID:Europe/Warsaw
BEGIN:DAYLIGHT
TZOFFSETFROM:+0100
TZOFFSETTO:+0200
TZNAME:CEST
DTSTART:20260329T010000
END:DAYLIGHT
BEGIN:STANDARD
TZOFFSETFROM:+0200
TZOFFSETTO:+0100
TZNAME:CET
DTSTART:20261025T010000
END:STANDARD
END:VTIMEZONE
BEGIN:VEVENT
DTSTART;TZID=Europe/Warsaw:20260422T100000
DTEND;TZID=Europe/Warsaw:20260422T140000
DTSTAMP:20260422T034953
CREATED:20260420T151358Z
LAST-MODIFIED:20260420T151358Z
UID:1806-1776852000-1776866400@fashrev.pl
SUMMARY: Greenwashing od A do Z
DESCRIPTION: „Greenwashing od A do Z”\, czyli praktyczne szkolenie organizowane przez ALTO dla osób\, które odpowiadają za komunikację\, marketing\, ESG i compliance. \nUOKiK już teraz stawia zarzuty. Bolt\, Tchibo\, Zara – to tylko te głośniejsze przypadki. Od września 2026 r. w czas stosowania wchodzi dyrektywa EmpCo\, która formalnie zakazuje m.in. ogólnych twierdzeń typu „eko” czy „przyjazne środowisku” bez udokumentowanego potwierdzenia. Maksymalna kara? 10% obrotu firmy. \nPodczas warsztatu eksperci ESG pokażą\, gdzie w praktyce powstaje ryzyko greenwashingu\, jakich błędów najczęściej nie dostrzegają firmy oraz jak budować komunikację środowiskową\, której nie zakwestionuje regulator. \nPracujemy na realnych przykładach z rynku polskiego i europejskiego\, odnosząc się do aktualnych działań UOKiK i nadchodzących wymogów wynikających z EmpCo. Uczestnicy mogą zgłosić własne case’y\, które opracujemy i omówimy wspólnie. \n 22 kwietnia 2026 r.\, godz. 10:00 – 14:00 lub termin indywidualny \n Biuro ALTO\, ul. Inflancka 4b\, Warszawa \n Formularz zapisu i szczegóły warsztatu: tutaj \nLiczba miejsc jest ograniczona.
URL:https://fashrev.pl/wydarzenie/greenwashing-od-a-do-z/
ATTACH;FMTTYPE=image/jpeg:https://fashrev.pl/wp-content/uploads/2026/04/image009.jpg
END:VEVENT
END:VCALENDAR