BEGIN:VCALENDAR
VERSION:2.0
PRODID:-//Fashion Revolution Polska - ECPv6.6.0.2//NONSGML v1.0//EN
CALSCALE:GREGORIAN
METHOD:PUBLISH
X-WR-CALNAME:Fashion Revolution Polska
X-ORIGINAL-URL:https://fashrev.pl
X-WR-CALDESC:Events for Fashion Revolution Polska
REFRESH-INTERVAL;VALUE=DURATION:PT1H
X-Robots-Tag:noindex
X-PUBLISHED-TTL:PT1H
BEGIN:VTIMEZONE
TZID:Europe/Warsaw
BEGIN:DAYLIGHT
TZOFFSETFROM:+0100
TZOFFSETTO:+0200
TZNAME:CEST
DTSTART:20260329T010000
END:DAYLIGHT
BEGIN:STANDARD
TZOFFSETFROM:+0200
TZOFFSETTO:+0100
TZNAME:CET
DTSTART:20261025T010000
END:STANDARD
END:VTIMEZONE
BEGIN:VEVENT
DTSTART;TZID=Europe/Warsaw:20260424T060000
DTEND;TZID=Europe/Warsaw:20260424T190000
DTSTAMP:20260424T130125
CREATED:20260420T135523Z
LAST-MODIFIED:20260420T135523Z
UID:1767-1777010400-1777057200@fashrev.pl
SUMMARY:Pikieta w rocznicę katastrofy Rana Plaza w Gdańsku
DESCRIPTION:Jak co roku\, Joanna Sobańska\, gdańska aktywistka i działaczka społeczna związana ze stowarzyszeniem Społeczny Gdańsk organizuje pikietę upamiętniającą katastrofę Rana Plaza\, przypominającą o problemach pracowników w łańcuchach dostaw branży mody i odnoszącą się do aktualnej sytuacji pracowników w Polsce. \n24 kwietnia\, godz. 18:00\, ul. Łąkowa 39/44 (przed budynkiem).\nWydarzenie na Facebooku: https://www.facebook.com/events/1270371255225441 \nInicjatywa oddolna organizowana niezależnie od Fashion Revolution Polska
URL:https://fashrev.pl/wydarzenie/pikieta-w-rocznice-katastrofy-rana-plaza-w-gdansku/
ATTACH;FMTTYPE=image/jpeg:https://fashrev.pl/wp-content/uploads/2026/04/pikieta-Rana-Plaza-2026.jpg
END:VEVENT
END:VCALENDAR