BEGIN:VCALENDAR
VERSION:2.0
PRODID:-//Fashion Revolution Polska - ECPv6.6.0.2//NONSGML v1.0//EN
CALSCALE:GREGORIAN
METHOD:PUBLISH
X-ORIGINAL-URL:https://fashrev.pl
X-WR-CALDESC:Events for Fashion Revolution Polska
REFRESH-INTERVAL;VALUE=DURATION:PT1H
X-Robots-Tag:noindex
X-PUBLISHED-TTL:PT1H
BEGIN:VTIMEZONE
TZID:Europe/Warsaw
BEGIN:DAYLIGHT
TZOFFSETFROM:+0100
TZOFFSETTO:+0200
TZNAME:CEST
DTSTART:20260329T010000
END:DAYLIGHT
BEGIN:STANDARD
TZOFFSETFROM:+0200
TZOFFSETTO:+0100
TZNAME:CET
DTSTART:20261025T010000
END:STANDARD
END:VTIMEZONE
BEGIN:VEVENT
DTSTART;TZID=Europe/Warsaw:20260424T060000
DTEND;TZID=Europe/Warsaw:20260424T190000
DTSTAMP:20260424T141003
CREATED:20260420T135523Z
LAST-MODIFIED:20260420T135523Z
UID:1767-1777010400-1777057200@fashrev.pl
SUMMARY:Pikieta w rocznicę katastrofy Rana Plaza w Gdańsku
DESCRIPTION:Jak co roku\, Joanna Sobańska\, gdańska aktywistka i działaczka społeczna związana ze stowarzyszeniem Społeczny Gdańsk organizuje pikietę upamiętniającą katastrofę Rana Plaza\, przypominającą o problemach pracowników w łańcuchach dostaw branży mody i odnoszącą się do aktualnej sytuacji pracowników w Polsce. \n24 kwietnia\, godz. 18:00\, ul. Łąkowa 39/44 (przed budynkiem).\nWydarzenie na Facebooku: https://www.facebook.com/events/1270371255225441 \nInicjatywa oddolna organizowana niezależnie od Fashion Revolution Polska
URL:https://fashrev.pl/wydarzenie/pikieta-w-rocznice-katastrofy-rana-plaza-w-gdansku/
ATTACH;FMTTYPE=image/jpeg:https://fashrev.pl/wp-content/uploads/2026/04/pikieta-Rana-Plaza-2026.jpg
END:VEVENT
BEGIN:VEVENT
DTSTART;TZID=Europe/Warsaw:20260425T110000
DTEND;TZID=Europe/Warsaw:20260425T150000
DTSTAMP:20260424T141003
CREATED:20260420T140220Z
LAST-MODIFIED:20260420T140220Z
UID:1770-1777114800-1777129200@fashrev.pl
SUMMARY:Wymianka odzieżowa w Tczewie
DESCRIPTION:Wymianka odzieżowa mająca na celu przedłużenie żywotności odzieży\, zmniejszenie ilości odpadów tekstylnych oraz odświeżenie garderoby bez wydawania pieniędzy. \nData: 25 kwietnia\, w godzinach 11-15\nAdres: Kawiarnia Samo Dobro ul. Jakuba Jaśińskiego 13 \nWydarzenie odbywa się w ramach projektu Akademia Lepszej Mody prowadzonego przez Fashion Revolution Polska i jest organizowane przez jedną z jego uczestniczek. Akademia Lepszej Mody jest współfinansowana przez Unię Europejską w ramach programu DEAR (Edukacja rozwojowa i podnoszenie świadomości). Jest on realizowany w ramach projektu Global Districts –\nNDICI CHALLENGE/2023/448-261.
URL:https://fashrev.pl/wydarzenie/wymianka-odziezowa-w-tczewie/
LOCATION:Kawiarnia Samo Dobro\, ul. Jakuba Jaśińskiego 13\, Tczew\, Poland
ATTACH;FMTTYPE=image/jpeg:https://fashrev.pl/wp-content/uploads/2026/04/Wymianka-odziezowa-Tczew-Tydzien-Fashion-Revolution.jpg
END:VEVENT
BEGIN:VEVENT
DTSTART;TZID=Europe/Warsaw:20260428T180000
DTEND;TZID=Europe/Warsaw:20260428T190000
DTSTAMP:20260424T141003
CREATED:20260420T140619Z
LAST-MODIFIED:20260420T140619Z
UID:1774-1777399200-1777402800@fashrev.pl
SUMMARY:Premiera cyklu rozmów Nowe Modele
DESCRIPTION:Tydzień Fashion Revolution zamykamy premierą pierwszego odcinka cyklu rozmów Nowe Modele – w pierwszej rozmowie prowadzonej przez Agnieszkę Wąsowską-Telęgę udział wziął Maciej Kowalski\, założyciel Kombinatu Konopnego. \nRozmowę będzie można obejrzeć 28 kwietnia od 18:00\, online na YouTube Fashion Revolution Poland.
URL:https://fashrev.pl/wydarzenie/premiera-cyklu-rozmow-nowe-modele/
ATTACH;FMTTYPE=image/png:https://fashrev.pl/wp-content/uploads/2026/04/Nowe-Modele.png
END:VEVENT
END:VCALENDAR